BEGIN:VCALENDAR
VERSION:2.0
PRODID:-//Great Western Music - ECPv6.15.20//NONSGML v1.0//EN
CALSCALE:GREGORIAN
METHOD:PUBLISH
X-WR-CALNAME:Great Western Music
X-ORIGINAL-URL:https://greatwestern.live
X-WR-CALDESC:Events for Great Western Music
REFRESH-INTERVAL;VALUE=DURATION:PT1H
X-Robots-Tag:noindex
X-PUBLISHED-TTL:PT1H
BEGIN:VTIMEZONE
TZID:America/Los_Angeles
BEGIN:DAYLIGHT
TZOFFSETFROM:-0800
TZOFFSETTO:-0700
TZNAME:PDT
DTSTART:20220313T100000
END:DAYLIGHT
BEGIN:STANDARD
TZOFFSETFROM:-0700
TZOFFSETTO:-0800
TZNAME:PST
DTSTART:20221106T090000
END:STANDARD
BEGIN:DAYLIGHT
TZOFFSETFROM:-0800
TZOFFSETTO:-0700
TZNAME:PDT
DTSTART:20230312T100000
END:DAYLIGHT
BEGIN:STANDARD
TZOFFSETFROM:-0700
TZOFFSETTO:-0800
TZNAME:PST
DTSTART:20231105T090000
END:STANDARD
BEGIN:DAYLIGHT
TZOFFSETFROM:-0800
TZOFFSETTO:-0700
TZNAME:PDT
DTSTART:20240310T100000
END:DAYLIGHT
BEGIN:STANDARD
TZOFFSETFROM:-0700
TZOFFSETTO:-0800
TZNAME:PST
DTSTART:20241103T090000
END:STANDARD
END:VTIMEZONE
BEGIN:VEVENT
DTSTART;TZID=America/Los_Angeles:20231029T193000
DTEND;TZID=America/Los_Angeles:20231029T193000
DTSTAMP:20260419T093947
CREATED:20230722T170122Z
LAST-MODIFIED:20230722T201305Z
UID:10000359-1698607800-1698607800@greatwestern.live
SUMMARY:Deer Tick
DESCRIPTION:
URL:https://greatwestern.live/event/deer-tick/
LOCATION:The Independent\, 628 Divisadero St\, San Francisco\, CA\, 94117\, United States
ATTACH;FMTTYPE=image/jpeg:https://greatwestern.live/wp-content/uploads/2023/07/deer-tick-1024.jpeg
END:VEVENT
BEGIN:VEVENT
DTSTART;TZID=America/Los_Angeles:20231010T193000
DTEND;TZID=America/Los_Angeles:20231010T193000
DTSTAMP:20260419T093947
CREATED:20230722T170122Z
LAST-MODIFIED:20230722T205512Z
UID:10000357-1696966200-1696966200@greatwestern.live
SUMMARY:The Milk Carton Kids
DESCRIPTION:
URL:https://greatwestern.live/event/the-milk-carton-kids/
LOCATION:The Independent\, 628 Divisadero St\, San Francisco\, CA\, 94117\, United States
ATTACH;FMTTYPE=image/jpeg:https://greatwestern.live/wp-content/uploads/2023/07/the-milk-carton-kids-updated-1024.jpeg
END:VEVENT
BEGIN:VEVENT
DTSTART;TZID=America/Los_Angeles:20230917T193000
DTEND;TZID=America/Los_Angeles:20230917T193000
DTSTAMP:20260419T093947
CREATED:20230722T170107Z
LAST-MODIFIED:20230722T213107Z
UID:10000355-1694979000-1694979000@greatwestern.live
SUMMARY:Samantha Fish
DESCRIPTION:
URL:https://greatwestern.live/event/samantha-fish/
LOCATION:The Independent\, 628 Divisadero St\, San Francisco\, CA\, 94117\, United States
ATTACH;FMTTYPE=image/jpeg:https://greatwestern.live/wp-content/uploads/2023/07/samantha-fish-1024.jpeg
END:VEVENT
BEGIN:VEVENT
DTSTART;TZID=America/Los_Angeles:20230610T203000
DTEND;TZID=America/Los_Angeles:20230610T203000
DTSTAMP:20260419T093947
CREATED:20230522T165843Z
LAST-MODIFIED:20230522T212432Z
UID:10000247-1686429000-1686429000@greatwestern.live
SUMMARY:Royal Jelly Jive
DESCRIPTION:
URL:https://greatwestern.live/event/royal-jelly-jive/
LOCATION:The Independent\, 628 Divisadero St\, San Francisco\, CA\, 94117\, United States
ATTACH;FMTTYPE=image/jpeg:https://greatwestern.live/wp-content/uploads/2023/05/Royal-Jelly-Jive.jpg
END:VEVENT
BEGIN:VEVENT
DTSTART;TZID=America/Los_Angeles:20230328T193000
DTEND;TZID=America/Los_Angeles:20230328T193000
DTSTAMP:20260419T093947
CREATED:20230206T083209Z
LAST-MODIFIED:20230216T015313Z
UID:10000057-1680031800-1680031800@greatwestern.live
SUMMARY:The War & Treaty
DESCRIPTION:with Kat & Alex
URL:https://greatwestern.live/event/the-war-and-treaty/
LOCATION:The Independent\, 628 Divisadero St\, San Francisco\, CA\, 94117\, United States
ATTACH;FMTTYPE=image/jpeg:https://greatwestern.live/wp-content/uploads/2023/02/FhiceUwX0AQC5hE-7lv3iW.tmp_.jpg
END:VEVENT
BEGIN:VEVENT
DTSTART;TZID=America/Los_Angeles:20230323T193000
DTEND;TZID=America/Los_Angeles:20230323T193000
DTSTAMP:20260419T093947
CREATED:20230206T083155Z
LAST-MODIFIED:20230216T015042Z
UID:10000053-1679599800-1679599800@greatwestern.live
SUMMARY:Delta Rae
DESCRIPTION:Return of the Witch Tour
URL:https://greatwestern.live/event/delta-rae/
LOCATION:The Independent\, 628 Divisadero St\, San Francisco\, CA\, 94117\, United States
ATTACH;FMTTYPE=image/webp:https://greatwestern.live/wp-content/uploads/2023/02/delta-rae-photo-credit-smallz-and-raskind-extralarge_1343166045424_wide-3aeeefdb73a34747f5c09a1bce3bbdbae3aa2c2d-s1600-c85-MO2S4h.tmp_.webp
END:VEVENT
BEGIN:VEVENT
DTSTART;TZID=America/Los_Angeles:20230316T193000
DTEND;TZID=America/Los_Angeles:20230316T193000
DTSTAMP:20260419T093947
CREATED:20230206T083139Z
LAST-MODIFIED:20230216T014326Z
UID:10000047-1678995000-1678995000@greatwestern.live
SUMMARY:Gone Gone Beyond
DESCRIPTION:
URL:https://greatwestern.live/event/gone-gone-beyond-2/
LOCATION:The Independent\, 628 Divisadero St\, San Francisco\, CA\, 94117\, United States
ATTACH;FMTTYPE=image/jpeg:https://greatwestern.live/wp-content/uploads/2023/02/photo2byLaurenDeluca-nDT4t0.tmp_.jpg
END:VEVENT
BEGIN:VEVENT
DTSTART;TZID=America/Los_Angeles:20230310T203000
DTEND;TZID=America/Los_Angeles:20230310T233000
DTSTAMP:20260419T093947
CREATED:20230216T012822Z
LAST-MODIFIED:20230216T013240Z
UID:10000081-1678480200-1678491000@greatwestern.live
SUMMARY:North Mississippi Allstars
DESCRIPTION:
URL:https://greatwestern.live/event/north-mississippi-allstars-4/
LOCATION:The Independent\, 628 Divisadero St\, San Francisco\, CA\, 94117\, United States
ATTACH;FMTTYPE=image/jpeg:https://greatwestern.live/wp-content/uploads/2023/02/NMA_2021_0028-ZJWBb7.tmp_.jpg
END:VEVENT
BEGIN:VEVENT
DTSTART;TZID=America/Los_Angeles:20230217T203000
DTEND;TZID=America/Los_Angeles:20230217T203000
DTSTAMP:20260419T093947
CREATED:20230216T000500Z
LAST-MODIFIED:20230216T000500Z
UID:10000078-1676665800-1676665800@greatwestern.live
SUMMARY:Kitchen Dwellers
DESCRIPTION:
URL:https://greatwestern.live/event/kitchen-dwellers/
LOCATION:The Independent\, 628 Divisadero St\, San Francisco\, CA\, 94117\, United States
ATTACH;FMTTYPE=image/jpeg:https://greatwestern.live/wp-content/uploads/2023/02/Promo-Facebook-Facebook-link-image-2022-02-05T103203.620-700x368-nF44hs.tmp_.jpg
END:VEVENT
END:VCALENDAR